BEGIN:VCALENDAR
VERSION:2.0
PRODID:-//Plone.org//NONSGML plone.app.event//EN
X-WR-TIMEZONE:Europe/Berlin
BEGIN:VEVENT
SUMMARY:Wes Anderson Special – The Life Aquatic with Steve Zissou - Die 
 Tiefseetaucher
DTSTART;TZID=Europe/Berlin:20080516T203000
DTSTAMP:20260423T080455Z
UID:e139080a928348d882932d7da7f0c0fb@zmi.spielboden.at
CREATED:20120822T145525Z
LAST-MODIFIED:20210809T123745Z
URL:https://zmi.spielboden.at/Plone/veranstaltungen/2008/05_mai/2008-05-16
 -20-30-wes-anderson-special-2013-the-life-aquatic-with-steve-zissou-die-ti
 efseetaucher
END:VEVENT
BEGIN:VTIMEZONE
TZID:Europe/Berlin
X-LIC-LOCATION:Europe/Berlin
BEGIN:DAYLIGHT
DTSTART:20080330T030000
TZNAME:CEST
TZOFFSETFROM:+0100
TZOFFSETTO:+0200
END:DAYLIGHT
END:VTIMEZONE
END:VCALENDAR
