BEGIN:VCALENDAR
VERSION:2.0
PRODID:-//Plone.org//NONSGML plone.app.event//EN
X-WR-TIMEZONE:Europe/Berlin
BEGIN:VEVENT
SUMMARY:JamSlam de la Poetry
DTSTART;TZID=Europe/Berlin:20080515T200000
DTSTAMP:20260423T080244Z
UID:be30e95d5a054dcb9887b4e5c9de72d6@zmi.spielboden.at
CREATED:20120822T145524Z
LAST-MODIFIED:20120910T114204Z
URL:https://zmi.spielboden.at/Plone/veranstaltungen/2008/05_mai/2008-05-15
 -20-00-jamslam-de-la-poetry
END:VEVENT
BEGIN:VTIMEZONE
TZID:Europe/Berlin
X-LIC-LOCATION:Europe/Berlin
BEGIN:DAYLIGHT
DTSTART:20080330T030000
TZNAME:CEST
TZOFFSETFROM:+0100
TZOFFSETTO:+0200
END:DAYLIGHT
END:VTIMEZONE
END:VCALENDAR
