BEGIN:VCALENDAR
VERSION:2.0
PRODID:-//Plone.org//NONSGML plone.app.event//EN
X-WR-TIMEZONE:Europe/Berlin
BEGIN:VEVENT
SUMMARY:Suite Habana
DTSTART;TZID=Europe/Berlin:20080514T203000
DTSTAMP:20260423T075241Z
UID:23a4fc95a6694f7db5e6a196b62f4013@zmi.spielboden.at
CREATED:20120822T145535Z
LAST-MODIFIED:20210809T123747Z
URL:https://zmi.spielboden.at/Plone/veranstaltungen/2008/05_mai/2008-05-14
 -20-30-suite-habana
END:VEVENT
BEGIN:VTIMEZONE
TZID:Europe/Berlin
X-LIC-LOCATION:Europe/Berlin
BEGIN:DAYLIGHT
DTSTART:20080330T030000
TZNAME:CEST
TZOFFSETFROM:+0100
TZOFFSETTO:+0200
END:DAYLIGHT
END:VTIMEZONE
END:VCALENDAR
