BEGIN:VCALENDAR
VERSION:2.0
PRODID:-//Plone.org//NONSGML plone.app.event//EN
X-WR-TIMEZONE:Europe/Berlin
BEGIN:VEVENT
SUMMARY:Wes Anderson Special – Die Royal Tenenbaums
DTSTART;TZID=Europe/Berlin:20080513T203000
DTSTAMP:20260423T075546Z
UID:906d35c6b3b3421bb707cabe5015f231@zmi.spielboden.at
CREATED:20120822T145521Z
LAST-MODIFIED:20210809T123744Z
URL:https://zmi.spielboden.at/Plone/veranstaltungen/2008/05_mai/2008-05-13
 -20-30-wes-anderson-special-2013-die-royal-tenenbaums
END:VEVENT
BEGIN:VTIMEZONE
TZID:Europe/Berlin
X-LIC-LOCATION:Europe/Berlin
BEGIN:DAYLIGHT
DTSTART:20080330T030000
TZNAME:CEST
TZOFFSETFROM:+0100
TZOFFSETTO:+0200
END:DAYLIGHT
END:VTIMEZONE
END:VCALENDAR
