BEGIN:VCALENDAR
VERSION:2.0
PRODID:-//Plone.org//NONSGML plone.app.event//EN
X-WR-TIMEZONE:Europe/Berlin
BEGIN:VEVENT
SUMMARY:Barcelona puro – Che Sudaka & The Globe
DTSTART;TZID=Europe/Berlin:20080511T210000
DTSTAMP:20260423T075336Z
UID:edc03f9f0bc14b1a8d34279420036ffe@zmi.spielboden.at
CREATED:20120822T145534Z
DESCRIPTION:anschließend The Globe
LAST-MODIFIED:20210809T123746Z
URL:https://zmi.spielboden.at/Plone/veranstaltungen/2008/05_mai/2008-05-11
 -21-00-barcelona-puro-2013-che-sudaka-the-globe
END:VEVENT
BEGIN:VTIMEZONE
TZID:Europe/Berlin
X-LIC-LOCATION:Europe/Berlin
BEGIN:DAYLIGHT
DTSTART:20080330T030000
TZNAME:CEST
TZOFFSETFROM:+0100
TZOFFSETTO:+0200
END:DAYLIGHT
END:VTIMEZONE
END:VCALENDAR
