BEGIN:VCALENDAR
VERSION:2.0
PRODID:-//Plone.org//NONSGML plone.app.event//EN
X-WR-TIMEZONE:Europe/Berlin
BEGIN:VEVENT
SUMMARY:Sonic Cafe mit Herrn Aaron
DTSTART;TZID=Europe/Berlin:20080510T220000
DTSTAMP:20260423T091457Z
UID:1885f9b1a4524d2c991be4e6496d1128@zmi.spielboden.at
CREATED:20120822T145520Z
LAST-MODIFIED:20120910T114204Z
URL:https://zmi.spielboden.at/Plone/veranstaltungen/2008/05_mai/2008-05-10
 -22-00-sonic-cafe-mit-herrn-aaron
END:VEVENT
BEGIN:VTIMEZONE
TZID:Europe/Berlin
X-LIC-LOCATION:Europe/Berlin
BEGIN:DAYLIGHT
DTSTART:20080330T030000
TZNAME:CEST
TZOFFSETFROM:+0100
TZOFFSETTO:+0200
END:DAYLIGHT
END:VTIMEZONE
END:VCALENDAR
