BEGIN:VCALENDAR
VERSION:2.0
PRODID:-//Plone.org//NONSGML plone.app.event//EN
X-WR-TIMEZONE:Europe/Berlin
BEGIN:VEVENT
SUMMARY:Barcelona puro – La Kinky Beat
DTSTART;TZID=Europe/Berlin:20080510T210000
DTSTAMP:20260423T093208Z
UID:16e56ed232684b5183c9183ece2b876c@zmi.spielboden.at
CREATED:20120822T145533Z
DESCRIPTION:anschließend Sonic Cafe mit Herrn Aaron
LAST-MODIFIED:20210809T123746Z
URL:https://zmi.spielboden.at/Plone/veranstaltungen/2008/05_mai/2008-05-10
 -21-00-barcelona-puro-2013-la-kinky-beat
END:VEVENT
BEGIN:VTIMEZONE
TZID:Europe/Berlin
X-LIC-LOCATION:Europe/Berlin
BEGIN:DAYLIGHT
DTSTART:20080330T030000
TZNAME:CEST
TZOFFSETFROM:+0100
TZOFFSETTO:+0200
END:DAYLIGHT
END:VTIMEZONE
END:VCALENDAR
