BEGIN:VCALENDAR
VERSION:2.0
PRODID:-//Plone.org//NONSGML plone.app.event//EN
X-WR-TIMEZONE:Europe/Berlin
BEGIN:VEVENT
SUMMARY:Wolfgang Muthspiel 4tet
DTSTART;TZID=Europe/Berlin:20080509T203000
DTSTAMP:20260423T092508Z
UID:7941d8dbb5354577b98f5931e84d7fc5@zmi.spielboden.at
CREATED:20120822T145505Z
LAST-MODIFIED:20210809T123741Z
URL:https://zmi.spielboden.at/Plone/veranstaltungen/2008/05_mai/2008-05-09
 -20-30-wolfgang-muthspiel-4tet
END:VEVENT
BEGIN:VTIMEZONE
TZID:Europe/Berlin
X-LIC-LOCATION:Europe/Berlin
BEGIN:DAYLIGHT
DTSTART:20080330T030000
TZNAME:CEST
TZOFFSETFROM:+0100
TZOFFSETTO:+0200
END:DAYLIGHT
END:VTIMEZONE
END:VCALENDAR
