BEGIN:VCALENDAR
VERSION:2.0
PRODID:-//Plone.org//NONSGML plone.app.event//EN
X-WR-TIMEZONE:Europe/Berlin
BEGIN:VEVENT
SUMMARY:Vorarlbergpremiere – Das andere Ich / Öteki ben
DTSTART;TZID=Europe/Berlin:20080508T200000
DTSTAMP:20260423T080116Z
UID:7a5bc092eafd44d385760dfa1f71ae00@zmi.spielboden.at
CREATED:20120822T144445Z
LAST-MODIFIED:20210809T123431Z
URL:https://zmi.spielboden.at/Plone/veranstaltungen/2008/05_mai/2008-05-08
 -20-00-vorarlbergpremiere-2013-das-andere-ich-oteki-ben
END:VEVENT
BEGIN:VTIMEZONE
TZID:Europe/Berlin
X-LIC-LOCATION:Europe/Berlin
BEGIN:DAYLIGHT
DTSTART:20080330T030000
TZNAME:CEST
TZOFFSETFROM:+0100
TZOFFSETTO:+0200
END:DAYLIGHT
END:VTIMEZONE
END:VCALENDAR
