BEGIN:VCALENDAR
VERSION:2.0
PRODID:-//Plone.org//NONSGML plone.app.event//EN
X-WR-TIMEZONE:Europe/Berlin
BEGIN:VEVENT
SUMMARY:Schulfilmwoche Interkultureller Dialog – Kebab Connection
DTSTART;TZID=Europe/Berlin:20080507T140000
DTSTAMP:20260423T080012Z
UID:f308b1e254be4d6ba507515d92f2bcbe@zmi.spielboden.at
CREATED:20120822T145516Z
DESCRIPTION:In Zusammenarbeit mit dem Bundesministerium für Untericht\, K
 unst und Kultur. \nSchulklassen können Vorstellungen jeweils um 10 Uhr od
 er um 14 Uhr buchen (Eintritt: 3\,-). Die Vorstellung um 20.30 Uhr ist öf
 fentlich und allgemein zugänglich (Eintritt: 7\,-/4\,-).\n
LAST-MODIFIED:20210809T123744Z
URL:https://zmi.spielboden.at/Plone/veranstaltungen/2008/05_mai/2008-05-07
 -14-00-schulfilmwoche-interkultureller-dialog-2013-kebab-connection
END:VEVENT
BEGIN:VTIMEZONE
TZID:Europe/Berlin
X-LIC-LOCATION:Europe/Berlin
BEGIN:DAYLIGHT
DTSTART:20080330T030000
TZNAME:CEST
TZOFFSETFROM:+0100
TZOFFSETTO:+0200
END:DAYLIGHT
END:VTIMEZONE
END:VCALENDAR
