BEGIN:VCALENDAR
VERSION:2.0
PRODID:-//Plone.org//NONSGML plone.app.event//EN
X-WR-TIMEZONE:Europe/Berlin
BEGIN:VEVENT
SUMMARY:Susanne Alge – Was Bruno und Oma Mathilde einander alles zeigen 
 und beibringen
DTSTART;TZID=Europe/Berlin:20080503T150000
DTSTAMP:20260423T080313Z
UID:8964a3fc458b40888096753274dd013b@zmi.spielboden.at
CREATED:20120822T145506Z
DESCRIPTION:im Rahmen von Poesie International 2008
LAST-MODIFIED:20210809T123741Z
URL:https://zmi.spielboden.at/Plone/veranstaltungen/2008/05_mai/2008-05-03
 -15-00-susanne-alge-2013-was-bruno-und-oma-mathilde-einander-alles-zeigen-
 und-beibringen
END:VEVENT
BEGIN:VTIMEZONE
TZID:Europe/Berlin
X-LIC-LOCATION:Europe/Berlin
BEGIN:DAYLIGHT
DTSTART:20080330T030000
TZNAME:CEST
TZOFFSETFROM:+0100
TZOFFSETTO:+0200
END:DAYLIGHT
END:VTIMEZONE
END:VCALENDAR
