BEGIN:VCALENDAR
VERSION:2.0
PRODID:-//Plone.org//NONSGML plone.app.event//EN
X-WR-TIMEZONE:Europe/Berlin
BEGIN:VEVENT
SUMMARY:Poesie in der Stadtbücherei Dornbirn
DTSTART;TZID=Europe/Berlin:20080502T150000
DTSTAMP:20260423T075540Z
UID:06df04a699bc440aaa87e2961435f105@zmi.spielboden.at
CREATED:20120822T145511Z
LAST-MODIFIED:20210809T123742Z
URL:https://zmi.spielboden.at/Plone/veranstaltungen/2008/05_mai/2008-05-02
 -15-00-poesie-in-der-stadtbuecherei-dornbirn
END:VEVENT
BEGIN:VTIMEZONE
TZID:Europe/Berlin
X-LIC-LOCATION:Europe/Berlin
BEGIN:DAYLIGHT
DTSTART:20080330T030000
TZNAME:CEST
TZOFFSETFROM:+0100
TZOFFSETTO:+0200
END:DAYLIGHT
END:VTIMEZONE
END:VCALENDAR
