BEGIN:VCALENDAR
VERSION:2.0
PRODID:-//Plone.org//NONSGML plone.app.event//EN
X-WR-TIMEZONE:Europe/Berlin
BEGIN:VEVENT
SUMMARY:Poesie International 2008
DTSTART;TZID=Europe/Berlin:20080501T193000
DTSTAMP:20260423T063124Z
UID:66c67bb4085548f1951cd681247176cf@zmi.spielboden.at
CREATED:20120822T145508Z
DESCRIPTION:POESIE INTERNATIONAL 2008 vom 1. Mai - 4. Mai
LAST-MODIFIED:20210809T123741Z
URL:https://zmi.spielboden.at/Plone/veranstaltungen/2008/05_mai/2008-05-01
 -19-30-poesie-international-2008
END:VEVENT
BEGIN:VTIMEZONE
TZID:Europe/Berlin
X-LIC-LOCATION:Europe/Berlin
BEGIN:DAYLIGHT
DTSTART:20080330T030000
TZNAME:CEST
TZOFFSETFROM:+0100
TZOFFSETTO:+0200
END:DAYLIGHT
END:VTIMEZONE
END:VCALENDAR
