BEGIN:VCALENDAR
VERSION:2.0
PRODID:-//Plone.org//NONSGML plone.app.event//EN
X-WR-TIMEZONE:Europe/Berlin
BEGIN:VEVENT
SUMMARY:Wiglaf Droste & das Spardosenterzett – Warm Up Party für 10 Jah
 re Poesie International
DTSTART;TZID=Europe/Berlin:20080430T203000
DTSTAMP:20260423T063219Z
UID:b624ae31efcc449fa3d2d40b3b0d6bc2@zmi.spielboden.at
CREATED:20120822T145452Z
DESCRIPTION:Seit du da bist auf der Welt – Vertonte Liebesgedichte von P
 eter Hacks 
LAST-MODIFIED:20210809T123739Z
URL:https://zmi.spielboden.at/Plone/veranstaltungen/2008/04_april/2008-04-
 30-20-30-wiglaf-droste-das-spardosenterzett-2013-warm-up-party-fuer-10-jah
 re-poesie-international
END:VEVENT
BEGIN:VTIMEZONE
TZID:Europe/Berlin
X-LIC-LOCATION:Europe/Berlin
BEGIN:DAYLIGHT
DTSTART:20080330T030000
TZNAME:CEST
TZOFFSETFROM:+0100
TZOFFSETTO:+0200
END:DAYLIGHT
END:VTIMEZONE
END:VCALENDAR
