BEGIN:VCALENDAR
VERSION:2.0
PRODID:-//Plone.org//NONSGML plone.app.event//EN
X-WR-TIMEZONE:Europe/Berlin
BEGIN:VEVENT
SUMMARY:Wal Mart – Der hohe Preis der Niedrigpreise
DTSTART;TZID=Europe/Berlin:20080430T203000
DTSTAMP:20260423T062715Z
UID:829ddcca69564fe2b37c83325cac0c03@zmi.spielboden.at
CREATED:20120822T145500Z
LAST-MODIFIED:20210809T123740Z
URL:https://zmi.spielboden.at/Plone/veranstaltungen/2008/04_april/2008-04-
 30-20-30-wal-mart-2013-der-hohe-preis-der-niedrigpreise
END:VEVENT
BEGIN:VTIMEZONE
TZID:Europe/Berlin
X-LIC-LOCATION:Europe/Berlin
BEGIN:DAYLIGHT
DTSTART:20080330T030000
TZNAME:CEST
TZOFFSETFROM:+0100
TZOFFSETTO:+0200
END:DAYLIGHT
END:VTIMEZONE
END:VCALENDAR
