BEGIN:VCALENDAR
VERSION:2.0
PRODID:-//Plone.org//NONSGML plone.app.event//EN
X-WR-TIMEZONE:Europe/Berlin
BEGIN:VEVENT
SUMMARY:Zuoz
DTSTART;TZID=Europe/Berlin:20080429T203000
DTSTAMP:20260423T062602Z
UID:006cf428c9cc4514ad8551d4e803c797@zmi.spielboden.at
CREATED:20120822T145503Z
LAST-MODIFIED:20210809T123741Z
URL:https://zmi.spielboden.at/Plone/veranstaltungen/2008/04_april/2008-04-
 29-20-30-zuoz
END:VEVENT
BEGIN:VTIMEZONE
TZID:Europe/Berlin
X-LIC-LOCATION:Europe/Berlin
BEGIN:DAYLIGHT
DTSTART:20080330T030000
TZNAME:CEST
TZOFFSETFROM:+0100
TZOFFSETTO:+0200
END:DAYLIGHT
END:VTIMEZONE
END:VCALENDAR
