BEGIN:VCALENDAR
VERSION:2.0
PRODID:-//Plone.org//NONSGML plone.app.event//EN
X-WR-TIMEZONE:Europe/Berlin
BEGIN:VEVENT
SUMMARY:Trio Rouge "Bella Ciao"
DTSTART;TZID=Europe/Berlin:20080427T203000
DTSTAMP:20260423T062715Z
UID:35339306c23b43bba92fac4f3c357522@zmi.spielboden.at
CREATED:20120822T145444Z
DESCRIPTION:Ein Jeunesse-Konzert in Kooperation mit dem Spielboden
LAST-MODIFIED:20210809T123738Z
URL:https://zmi.spielboden.at/Plone/veranstaltungen/2008/04_april/2008-04-
 27-20-30-trio-rouge-bella-ciao
END:VEVENT
BEGIN:VTIMEZONE
TZID:Europe/Berlin
X-LIC-LOCATION:Europe/Berlin
BEGIN:DAYLIGHT
DTSTART:20080330T030000
TZNAME:CEST
TZOFFSETFROM:+0100
TZOFFSETTO:+0200
END:DAYLIGHT
END:VTIMEZONE
END:VCALENDAR
