BEGIN:VCALENDAR
VERSION:2.0
PRODID:-//Plone.org//NONSGML plone.app.event//EN
X-WR-TIMEZONE:Europe/Berlin
BEGIN:VEVENT
SUMMARY:Sonic Cafe mit Fräulein Cicibe
DTSTART;TZID=Europe/Berlin:20080426T220000
DTSTAMP:20260425T210253Z
UID:e3147191332d4ba3b9b1067e559178a7@zmi.spielboden.at
CREATED:20120822T145504Z
LAST-MODIFIED:20120910T114203Z
URL:https://zmi.spielboden.at/Plone/veranstaltungen/2008/04_april/2008-04-
 26-22-00-sonic-cafe-mit-fraeulein-cicibe
END:VEVENT
BEGIN:VTIMEZONE
TZID:Europe/Berlin
X-LIC-LOCATION:Europe/Berlin
BEGIN:DAYLIGHT
DTSTART:20080330T030000
TZNAME:CEST
TZOFFSETFROM:+0100
TZOFFSETTO:+0200
END:DAYLIGHT
END:VTIMEZONE
END:VCALENDAR
