BEGIN:VCALENDAR
VERSION:2.0
PRODID:-//Plone.org//NONSGML plone.app.event//EN
X-WR-TIMEZONE:Europe/Berlin
BEGIN:VEVENT
SUMMARY:Frühjahrsputz – Rainer von Vielen (ElektroPunkHop)
DTSTART;TZID=Europe/Berlin:20080426T210000
DTSTAMP:20260425T211236Z
UID:883bb8c52a9646c2b6f44f663076c601@zmi.spielboden.at
CREATED:20120822T145451Z
LAST-MODIFIED:20210809T123739Z
URL:https://zmi.spielboden.at/Plone/veranstaltungen/2008/04_april/2008-04-
 26-21-00-fruehjahrsputz-2013-rainer-von-vielen-elektropunkhop
END:VEVENT
BEGIN:VTIMEZONE
TZID:Europe/Berlin
X-LIC-LOCATION:Europe/Berlin
BEGIN:DAYLIGHT
DTSTART:20080330T030000
TZNAME:CEST
TZOFFSETFROM:+0100
TZOFFSETTO:+0200
END:DAYLIGHT
END:VTIMEZONE
END:VCALENDAR
