BEGIN:VCALENDAR
VERSION:2.0
PRODID:-//Plone.org//NONSGML plone.app.event//EN
X-WR-TIMEZONE:Europe/Berlin
BEGIN:VEVENT
SUMMARY:Spielboden Kasperletheater
DTSTART;TZID=Europe/Berlin:20080426T150000
DTSTAMP:20260425T182050Z
UID:1ec38b09599f4fa3b59469fc41db4ec8@zmi.spielboden.at
CREATED:20120822T145446Z
LAST-MODIFIED:20210809T123738Z
URL:https://zmi.spielboden.at/Plone/veranstaltungen/2008/04_april/2008-04-
 26-15-00-spielboden-kasperletheater
END:VEVENT
BEGIN:VTIMEZONE
TZID:Europe/Berlin
X-LIC-LOCATION:Europe/Berlin
BEGIN:DAYLIGHT
DTSTART:20080330T030000
TZNAME:CEST
TZOFFSETFROM:+0100
TZOFFSETTO:+0200
END:DAYLIGHT
END:VTIMEZONE
END:VCALENDAR
