BEGIN:VCALENDAR
VERSION:2.0
PRODID:-//Plone.org//NONSGML plone.app.event//EN
X-WR-TIMEZONE:Europe/Berlin
BEGIN:VEVENT
SUMMARY:Frühjahrsputz – Zdob si Zdub (Karpaten Hardcore und Gypsy Punk)
DTSTART;TZID=Europe/Berlin:20080425T210000
DTSTAMP:20260425T201538Z
UID:f3a3820057484708b43650e24de32761@zmi.spielboden.at
CREATED:20120822T145450Z
LAST-MODIFIED:20210809T123739Z
URL:https://zmi.spielboden.at/Plone/veranstaltungen/2008/04_april/2008-04-
 25-21-00-fruehjahrsputz-2013-zdob-si-zdub-karpaten-hardcore-und-gypsy-punk
END:VEVENT
BEGIN:VTIMEZONE
TZID:Europe/Berlin
X-LIC-LOCATION:Europe/Berlin
BEGIN:DAYLIGHT
DTSTART:20080330T030000
TZNAME:CEST
TZOFFSETFROM:+0100
TZOFFSETTO:+0200
END:DAYLIGHT
END:VTIMEZONE
END:VCALENDAR
