BEGIN:VCALENDAR
VERSION:2.0
PRODID:-//Plone.org//NONSGML plone.app.event//EN
X-WR-TIMEZONE:Europe/Berlin
BEGIN:VEVENT
SUMMARY:Frühjahrsputz – Markscheider Kunst (Latin Ska Fusion aus St. Pe
 tersburg)
DTSTART;TZID=Europe/Berlin:20080424T210000
DTSTAMP:20260425T195846Z
UID:097a9678cf1a482fab0fda2795070a0a@zmi.spielboden.at
CREATED:20120822T145449Z
LAST-MODIFIED:20210809T123739Z
URL:https://zmi.spielboden.at/Plone/veranstaltungen/2008/04_april/2008-04-
 24-21-00-fruehjahrsputz-2013-markscheider-kunst-latin-ska-fusion-aus-st-pe
 tersburg
END:VEVENT
BEGIN:VTIMEZONE
TZID:Europe/Berlin
X-LIC-LOCATION:Europe/Berlin
BEGIN:DAYLIGHT
DTSTART:20080330T030000
TZNAME:CEST
TZOFFSETFROM:+0100
TZOFFSETTO:+0200
END:DAYLIGHT
END:VTIMEZONE
END:VCALENDAR
