BEGIN:VCALENDAR
VERSION:2.0
PRODID:-//Plone.org//NONSGML plone.app.event//EN
X-WR-TIMEZONE:Europe/Berlin
BEGIN:VEVENT
SUMMARY:Zuoz
DTSTART;TZID=Europe/Berlin:20080423T203000
DTSTAMP:20260425T211338Z
UID:827d9c401bbc43188f2d63da93abbf6f@zmi.spielboden.at
CREATED:20120822T145502Z
DESCRIPTION:Die Regisseurin wird bei dieser Vorführung anwesend sein und 
 für Fragen zur Verfügung stehen.
LAST-MODIFIED:20210809T123741Z
URL:https://zmi.spielboden.at/Plone/veranstaltungen/2008/04_april/2008-04-
 23-20-30-zuoz
END:VEVENT
BEGIN:VTIMEZONE
TZID:Europe/Berlin
X-LIC-LOCATION:Europe/Berlin
BEGIN:DAYLIGHT
DTSTART:20080330T030000
TZNAME:CEST
TZOFFSETFROM:+0100
TZOFFSETTO:+0200
END:DAYLIGHT
END:VTIMEZONE
END:VCALENDAR
