BEGIN:VCALENDAR
VERSION:2.0
PRODID:-//Plone.org//NONSGML plone.app.event//EN
X-WR-TIMEZONE:Europe/Berlin
BEGIN:VEVENT
SUMMARY:Sit Down And Sing 4 - Ein Abend mit Rosie Thomas\, Nicolai Dunger\
 , Josh Ottum
DTSTART;TZID=Europe/Berlin:20080418T203000
DTSTAMP:20260425T222059Z
UID:4f5ab88974bb4341ab7707110a2dfc70@zmi.spielboden.at
CREATED:20120822T145451Z
DESCRIPTION:..3 Künstler\, 1 Bühne\, Songs\, Geschichten..
LAST-MODIFIED:20210809T123739Z
URL:https://zmi.spielboden.at/Plone/veranstaltungen/2008/04_april/2008-04-
 18-20-30-sit-down-and-sing-4-ein-abend-mit-rosie-thomas-nicolai-dunger-jos
 h-ottum
END:VEVENT
BEGIN:VTIMEZONE
TZID:Europe/Berlin
X-LIC-LOCATION:Europe/Berlin
BEGIN:DAYLIGHT
DTSTART:20080330T030000
TZNAME:CEST
TZOFFSETFROM:+0100
TZOFFSETTO:+0200
END:DAYLIGHT
END:VTIMEZONE
END:VCALENDAR
