BEGIN:VCALENDAR
VERSION:2.0
PRODID:-//Plone.org//NONSGML plone.app.event//EN
X-WR-TIMEZONE:Europe/Berlin
BEGIN:VEVENT
SUMMARY:„Heute Abend: Irmgard Knef“ – Kabarett-Theater-Chansonabend
DTSTART;TZID=Europe/Berlin:20080417T203000
DTSTAMP:20260425T182050Z
UID:1a132f7740d84698a69ed5305b3bbdcc@zmi.spielboden.at
CREATED:20120822T145502Z
DESCRIPTION:von und mit Ulrich Michael Heissig
LAST-MODIFIED:20210809T123740Z
URL:https://zmi.spielboden.at/Plone/veranstaltungen/2008/04_april/2008-04-
 17-20-30-201eheute-abend-irmgard-knef201c-2013-kabarett-theater-chansonabe
 nd
END:VEVENT
BEGIN:VTIMEZONE
TZID:Europe/Berlin
X-LIC-LOCATION:Europe/Berlin
BEGIN:DAYLIGHT
DTSTART:20080330T030000
TZNAME:CEST
TZOFFSETFROM:+0100
TZOFFSETTO:+0200
END:DAYLIGHT
END:VTIMEZONE
END:VCALENDAR
