BEGIN:VCALENDAR
VERSION:2.0
PRODID:-//Plone.org//NONSGML plone.app.event//EN
X-WR-TIMEZONE:Europe/Berlin
BEGIN:VEVENT
SUMMARY:The War on Drugs
DTSTART;TZID=Europe/Berlin:20080416T203000
DTSTAMP:20260425T150402Z
UID:3058f37da4184b8793781b9a7ff5247b@zmi.spielboden.at
CREATED:20120822T145501Z
LAST-MODIFIED:20210809T123740Z
URL:https://zmi.spielboden.at/Plone/veranstaltungen/2008/04_april/2008-04-
 16-20-30-the-war-on-drugs
END:VEVENT
BEGIN:VTIMEZONE
TZID:Europe/Berlin
X-LIC-LOCATION:Europe/Berlin
BEGIN:DAYLIGHT
DTSTART:20080330T030000
TZNAME:CEST
TZOFFSETFROM:+0100
TZOFFSETTO:+0200
END:DAYLIGHT
END:VTIMEZONE
END:VCALENDAR
