BEGIN:VCALENDAR
VERSION:2.0
PRODID:-//Plone.org//NONSGML plone.app.event//EN
X-WR-TIMEZONE:Europe/Berlin
BEGIN:VEVENT
SUMMARY:27. Jahreshauptversammlung des Vereins Spielboden Dornbirn
DTSTART;TZID=Europe/Berlin:20080414T190000
DTSTAMP:20260425T134619Z
UID:5e995d1dd5e94077a8764bc35a27caa1@zmi.spielboden.at
CREATED:20120822T145504Z
LAST-MODIFIED:20120910T114203Z
URL:https://zmi.spielboden.at/Plone/veranstaltungen/2008/04_april/2008-04-
 14-19-00-27-jahreshauptversammlung-des-vereins-spielboden-dornbirn
END:VEVENT
BEGIN:VTIMEZONE
TZID:Europe/Berlin
X-LIC-LOCATION:Europe/Berlin
BEGIN:DAYLIGHT
DTSTART:20080330T030000
TZNAME:CEST
TZOFFSETFROM:+0100
TZOFFSETTO:+0200
END:DAYLIGHT
END:VTIMEZONE
END:VCALENDAR
