BEGIN:VCALENDAR
VERSION:2.0
PRODID:-//Plone.org//NONSGML plone.app.event//EN
X-WR-TIMEZONE:Europe/Berlin
BEGIN:VEVENT
SUMMARY:CD-Präsentation – Fucoustic
DTSTART;TZID=Europe/Berlin:20080411T220000
DTSTAMP:20260425T235404Z
UID:89a03356c0574032adba6e8e6db0f4e1@zmi.spielboden.at
CREATED:20120822T145501Z
LAST-MODIFIED:20210809T123740Z
URL:https://zmi.spielboden.at/Plone/veranstaltungen/2008/04_april/2008-04-
 11-22-00-cd-praesentation-2013-fucoustic
END:VEVENT
BEGIN:VTIMEZONE
TZID:Europe/Berlin
X-LIC-LOCATION:Europe/Berlin
BEGIN:DAYLIGHT
DTSTART:20080330T030000
TZNAME:CEST
TZOFFSETFROM:+0100
TZOFFSETTO:+0200
END:DAYLIGHT
END:VTIMEZONE
END:VCALENDAR
