BEGIN:VCALENDAR
VERSION:2.0
PRODID:-//Plone.org//NONSGML plone.app.event//EN
X-WR-TIMEZONE:Europe/Berlin
BEGIN:VEVENT
SUMMARY:Wolfert Brederode Quartet
DTSTART;TZID=Europe/Berlin:20080405T203000
DTSTAMP:20260423T045435Z
UID:89bb576f4c6a417987863e17d39a45db@zmi.spielboden.at
CREATED:20120822T145444Z
LAST-MODIFIED:20210809T123738Z
URL:https://zmi.spielboden.at/Plone/veranstaltungen/2008/04_april/2008-04-
 05-20-30-wolfert-brederode-quartet
END:VEVENT
BEGIN:VTIMEZONE
TZID:Europe/Berlin
X-LIC-LOCATION:Europe/Berlin
BEGIN:DAYLIGHT
DTSTART:20080330T030000
TZNAME:CEST
TZOFFSETFROM:+0100
TZOFFSETTO:+0200
END:DAYLIGHT
END:VTIMEZONE
END:VCALENDAR
