BEGIN:VCALENDAR
VERSION:2.0
PRODID:-//Plone.org//NONSGML plone.app.event//EN
X-WR-TIMEZONE:Europe/Berlin
BEGIN:VEVENT
SUMMARY:Clownduo CoCó – Träumeland
DTSTART;TZID=Europe/Berlin:20080405T150000
DTSTAMP:20260426T025221Z
UID:03f4485e8dd94f8191bd40a1d9bf6791@zmi.spielboden.at
CREATED:20120822T145445Z
LAST-MODIFIED:20210809T123738Z
URL:https://zmi.spielboden.at/Plone/veranstaltungen/2008/04_april/2008-04-
 05-15-00-clownduo-coco-2013-traeumeland
END:VEVENT
BEGIN:VTIMEZONE
TZID:Europe/Berlin
X-LIC-LOCATION:Europe/Berlin
BEGIN:DAYLIGHT
DTSTART:20080330T030000
TZNAME:CEST
TZOFFSETFROM:+0100
TZOFFSETTO:+0200
END:DAYLIGHT
END:VTIMEZONE
END:VCALENDAR
