BEGIN:VCALENDAR
VERSION:2.0
PRODID:-//Plone.org//NONSGML plone.app.event//EN
X-WR-TIMEZONE:Europe/Berlin
BEGIN:VEVENT
SUMMARY:Filmreihe „Frühlingserwachen“ – Adam and Steve
DTSTART;TZID=Europe/Berlin:20080401T203000
DTSTAMP:20260425T182441Z
UID:e6b2da23e229413fab39f7839b022444@zmi.spielboden.at
CREATED:20120822T144419Z
DESCRIPTION:In Zusammenarbeit mit dem schwullesbischen Verein „Go West
 “
LAST-MODIFIED:20210809T123426Z
URL:https://zmi.spielboden.at/Plone/veranstaltungen/2008/04_april/2008-04-
 01-20-30-filmreihe-201efruhlingserwachen201c-2013-adam-and-steve
END:VEVENT
BEGIN:VTIMEZONE
TZID:Europe/Berlin
X-LIC-LOCATION:Europe/Berlin
BEGIN:DAYLIGHT
DTSTART:20080330T030000
TZNAME:CEST
TZOFFSETFROM:+0100
TZOFFSETTO:+0200
END:DAYLIGHT
END:VTIMEZONE
END:VCALENDAR
