BEGIN:VCALENDAR
VERSION:2.0
PRODID:-//Plone.org//NONSGML plone.app.event//EN
X-WR-TIMEZONE:Europe/Berlin
BEGIN:VEVENT
SUMMARY:Kantine - Mensa DJ-Line
DTSTART;TZID=Europe/Berlin:20080329T220000
DTSTAMP:20260425T222233Z
UID:50cad1efa5f4413ba35e9e871be2370c@zmi.spielboden.at
CREATED:20120822T145443Z
LAST-MODIFIED:20120910T114201Z
URL:https://zmi.spielboden.at/Plone/veranstaltungen/2008/03_maerz/2008-03-
 29-22-00-kantine-mensa-dj-line
END:VEVENT
BEGIN:VTIMEZONE
TZID:Europe/Berlin
X-LIC-LOCATION:Europe/Berlin
BEGIN:STANDARD
DTSTART:20071028T020000
TZNAME:CET
TZOFFSETFROM:+0200
TZOFFSETTO:+0100
END:STANDARD
END:VTIMEZONE
END:VCALENDAR
