BEGIN:VCALENDAR
VERSION:2.0
PRODID:-//Plone.org//NONSGML plone.app.event//EN
X-WR-TIMEZONE:Europe/Berlin
BEGIN:VEVENT
SUMMARY:Das kurze Leben des José Antonio Gutierrez
DTSTART;TZID=Europe/Berlin:20080329T203000
DTSTAMP:20260425T163425Z
UID:de373df05f184ef8bc33373be57c5a71@zmi.spielboden.at
CREATED:20120822T145442Z
LAST-MODIFIED:20210809T123737Z
URL:https://zmi.spielboden.at/Plone/veranstaltungen/2008/03_maerz/2008-03-
 29-20-30-das-kurze-leben-des-jose-antonio-gutierrez
END:VEVENT
BEGIN:VTIMEZONE
TZID:Europe/Berlin
X-LIC-LOCATION:Europe/Berlin
BEGIN:STANDARD
DTSTART:20071028T020000
TZNAME:CET
TZOFFSETFROM:+0200
TZOFFSETTO:+0100
END:STANDARD
END:VTIMEZONE
END:VCALENDAR
