BEGIN:VCALENDAR
VERSION:2.0
PRODID:-//Plone.org//NONSGML plone.app.event//EN
X-WR-TIMEZONE:Europe/Berlin
BEGIN:VEVENT
SUMMARY:Jeunesse für Kinder – Der Knabe und der Schmetterling
DTSTART;TZID=Europe/Berlin:20080329T150000
DTSTAMP:20260425T182742Z
UID:d1b13fe187dc4df58f049e61f33aa8ab@zmi.spielboden.at
CREATED:20120822T145426Z
LAST-MODIFIED:20210809T123734Z
URL:https://zmi.spielboden.at/Plone/veranstaltungen/2008/03_maerz/2008-03-
 29-15-00-jeunesse-fuer-kinder-2013-der-knabe-und-der-schmetterling
END:VEVENT
BEGIN:VTIMEZONE
TZID:Europe/Berlin
X-LIC-LOCATION:Europe/Berlin
BEGIN:STANDARD
DTSTART:20071028T020000
TZNAME:CET
TZOFFSETFROM:+0200
TZOFFSETTO:+0100
END:STANDARD
END:VTIMEZONE
END:VCALENDAR
