BEGIN:VCALENDAR
VERSION:2.0
PRODID:-//Plone.org//NONSGML plone.app.event//EN
X-WR-TIMEZONE:Europe/Berlin
BEGIN:VEVENT
SUMMARY:Dancas Ocultas
DTSTART;TZID=Europe/Berlin:20080328T203000
DTSTAMP:20260425T132654Z
UID:6437fc6236a74e5ca059cddc6b0a528e@zmi.spielboden.at
CREATED:20120822T145427Z
LAST-MODIFIED:20210809T123734Z
URL:https://zmi.spielboden.at/Plone/veranstaltungen/2008/03_maerz/2008-03-
 28-20-30-dancas-ocultas
END:VEVENT
BEGIN:VTIMEZONE
TZID:Europe/Berlin
X-LIC-LOCATION:Europe/Berlin
BEGIN:STANDARD
DTSTART:20071028T020000
TZNAME:CET
TZOFFSETFROM:+0200
TZOFFSETTO:+0100
END:STANDARD
END:VTIMEZONE
END:VCALENDAR
