BEGIN:VCALENDAR
VERSION:2.0
PRODID:-//Plone.org//NONSGML plone.app.event//EN
X-WR-TIMEZONE:Europe/Berlin
BEGIN:VEVENT
SUMMARY:JamSlam de la Poetry
DTSTART;TZID=Europe/Berlin:20080327T200000
DTSTAMP:20260425T133045Z
UID:9a1c8d0c4ad247b78bb29c43e8625c25@zmi.spielboden.at
CREATED:20120822T145428Z
DESCRIPTION:Jetzt geht's ans Eingemachte!
LAST-MODIFIED:20120910T114159Z
URL:https://zmi.spielboden.at/Plone/veranstaltungen/2008/03_maerz/2008-03-
 27-20-00-jamslam-de-la-poetry
END:VEVENT
BEGIN:VTIMEZONE
TZID:Europe/Berlin
X-LIC-LOCATION:Europe/Berlin
BEGIN:STANDARD
DTSTART:20071028T020000
TZNAME:CET
TZOFFSETFROM:+0200
TZOFFSETTO:+0100
END:STANDARD
END:VTIMEZONE
END:VCALENDAR
