BEGIN:VCALENDAR
VERSION:2.0
PRODID:-//Plone.org//NONSGML plone.app.event//EN
X-WR-TIMEZONE:Europe/Berlin
BEGIN:VEVENT
SUMMARY:The Wind that shakes the Barley
DTSTART;TZID=Europe/Berlin:20080325T203000
DTSTAMP:20260425T163413Z
UID:477a40b89114426cbba1b20f806acf5e@zmi.spielboden.at
CREATED:20120822T145441Z
LAST-MODIFIED:20210809T123736Z
URL:https://zmi.spielboden.at/Plone/veranstaltungen/2008/03_maerz/2008-03-
 25-20-30-the-wind-that-shakes-the-barley
END:VEVENT
BEGIN:VTIMEZONE
TZID:Europe/Berlin
X-LIC-LOCATION:Europe/Berlin
BEGIN:STANDARD
DTSTART:20071028T020000
TZNAME:CET
TZOFFSETFROM:+0200
TZOFFSETTO:+0100
END:STANDARD
END:VTIMEZONE
END:VCALENDAR
