BEGIN:VCALENDAR
VERSION:2.0
PRODID:-//Plone.org//NONSGML plone.app.event//EN
X-WR-TIMEZONE:Europe/Berlin
BEGIN:VEVENT
SUMMARY:CD-Präsentation – Mermaids
DTSTART;TZID=Europe/Berlin:20080323T210000
DTSTAMP:20260425T234746Z
UID:f43206c537bd4ba5982a18e6d69828e3@zmi.spielboden.at
CREATED:20120822T145440Z
LAST-MODIFIED:20210809T123736Z
URL:https://zmi.spielboden.at/Plone/veranstaltungen/2008/03_maerz/2008-03-
 23-21-00-cd-praesentation-2013-mermaids
END:VEVENT
BEGIN:VTIMEZONE
TZID:Europe/Berlin
X-LIC-LOCATION:Europe/Berlin
BEGIN:STANDARD
DTSTART:20071028T020000
TZNAME:CET
TZOFFSETFROM:+0200
TZOFFSETTO:+0100
END:STANDARD
END:VTIMEZONE
END:VCALENDAR
