BEGIN:VCALENDAR
VERSION:2.0
PRODID:-//Plone.org//NONSGML plone.app.event//EN
X-WR-TIMEZONE:Europe/Berlin
BEGIN:VEVENT
SUMMARY:SONIC CAFE - heute mit Herrn Aaron
DTSTART;TZID=Europe/Berlin:20080322T220000
DTSTAMP:20260425T150334Z
UID:c248f91df0ec46d5b505a16a8241ca74@zmi.spielboden.at
CREATED:20120822T145433Z
LAST-MODIFIED:20120910T114200Z
URL:https://zmi.spielboden.at/Plone/veranstaltungen/2008/03_maerz/2008-03-
 22-22-00-sonic-cafe-heute-mit-herrn-aaron
END:VEVENT
BEGIN:VTIMEZONE
TZID:Europe/Berlin
X-LIC-LOCATION:Europe/Berlin
BEGIN:STANDARD
DTSTART:20071028T020000
TZNAME:CET
TZOFFSETFROM:+0200
TZOFFSETTO:+0100
END:STANDARD
END:VTIMEZONE
END:VCALENDAR
