BEGIN:VCALENDAR
VERSION:2.0
PRODID:-//Plone.org//NONSGML plone.app.event//EN
X-WR-TIMEZONE:Europe/Berlin
BEGIN:VEVENT
SUMMARY:Poetry Slam Special – SMAAT – Die Boygroup des Poetry Slam
DTSTART;TZID=Europe/Berlin:20080322T210000
DTSTAMP:20260425T151005Z
UID:d25cbb430fe94dec8eb9627960c661bb@zmi.spielboden.at
CREATED:20120822T145427Z
DESCRIPTION:„Wo wohnt die Zärtlichkeit?"
LAST-MODIFIED:20210809T123734Z
URL:https://zmi.spielboden.at/Plone/veranstaltungen/2008/03_maerz/2008-03-
 22-21-00-poetry-slam-special-2013-smaat-2013-die-boygroup-des-poetry-slam
END:VEVENT
BEGIN:VTIMEZONE
TZID:Europe/Berlin
X-LIC-LOCATION:Europe/Berlin
BEGIN:STANDARD
DTSTART:20071028T020000
TZNAME:CET
TZOFFSETFROM:+0200
TZOFFSETTO:+0100
END:STANDARD
END:VTIMEZONE
END:VCALENDAR
