BEGIN:VCALENDAR
VERSION:2.0
PRODID:-//Plone.org//NONSGML plone.app.event//EN
X-WR-TIMEZONE:Europe/Berlin
BEGIN:VEVENT
SUMMARY:Theater Geist – Das Kleine Ich bin Ich
DTSTART;TZID=Europe/Berlin:20080322T160000
DTSTAMP:20260425T163215Z
UID:0544d9e35c0a47da9f7e49f2929273ab@zmi.spielboden.at
CREATED:20120822T145425Z
DESCRIPTION:ACHTUNG – begrenzte Kartenanzahl!
LAST-MODIFIED:20210809T123733Z
URL:https://zmi.spielboden.at/Plone/veranstaltungen/2008/03_maerz/2008-03-
 22-16-00-theater-geist-2013-das-kleine-ich-bin-ich
END:VEVENT
BEGIN:VTIMEZONE
TZID:Europe/Berlin
X-LIC-LOCATION:Europe/Berlin
BEGIN:STANDARD
DTSTART:20071028T020000
TZNAME:CET
TZOFFSETFROM:+0200
TZOFFSETTO:+0100
END:STANDARD
END:VTIMEZONE
END:VCALENDAR
