BEGIN:VCALENDAR
VERSION:2.0
PRODID:-//Plone.org//NONSGML plone.app.event//EN
X-WR-TIMEZONE:Europe/Berlin
BEGIN:VEVENT
SUMMARY:Filmreihe Frauen und Recht – Sisters in Law
DTSTART;TZID=Europe/Berlin:20080319T203000
DTSTAMP:20260423T045123Z
UID:327e978d01bb4242bb41af9ddca012ca@zmi.spielboden.at
CREATED:20120822T145435Z
DESCRIPTION:Anlässlich des internationalen Frauentags zeigt die Filmfabri
 k in Zusammenarbeit mit der Docuzone\, den Frauenfilmtagen\, BAOBAB\, Amne
 sty International und dem Frauensolidaritätsnetzwerk drei Filme zum Thema
  Frauen und Recht.
LAST-MODIFIED:20210809T123735Z
URL:https://zmi.spielboden.at/Plone/veranstaltungen/2008/03_maerz/2008-03-
 19-20-30-filmreihe-frauen-und-recht-2013-sisters-in-law
END:VEVENT
BEGIN:VTIMEZONE
TZID:Europe/Berlin
X-LIC-LOCATION:Europe/Berlin
BEGIN:STANDARD
DTSTART:20071028T020000
TZNAME:CET
TZOFFSETFROM:+0200
TZOFFSETTO:+0100
END:STANDARD
END:VTIMEZONE
END:VCALENDAR
