BEGIN:VCALENDAR
VERSION:2.0
PRODID:-//Plone.org//NONSGML plone.app.event//EN
X-WR-TIMEZONE:Europe/Berlin
BEGIN:VEVENT
SUMMARY:Frank London's Klezmer Brass All Stars – "The Big Blow"
DTSTART;TZID=Europe/Berlin:20080313T203000
DTSTAMP:20260425T165357Z
UID:8d9d6eb85d3c42b5b5147d1e8a7c758a@zmi.spielboden.at
CREATED:20120822T145422Z
LAST-MODIFIED:20210809T123733Z
URL:https://zmi.spielboden.at/Plone/veranstaltungen/2008/03_maerz/2008-03-
 13-20-30-frank-london-s-klezmer-brass-all-stars-2013-the-big-blow
END:VEVENT
BEGIN:VTIMEZONE
TZID:Europe/Berlin
X-LIC-LOCATION:Europe/Berlin
BEGIN:STANDARD
DTSTART:20071028T020000
TZNAME:CET
TZOFFSETFROM:+0200
TZOFFSETTO:+0100
END:STANDARD
END:VTIMEZONE
END:VCALENDAR
