BEGIN:VCALENDAR
VERSION:2.0
PRODID:-//Plone.org//NONSGML plone.app.event//EN
X-WR-TIMEZONE:Europe/Berlin
BEGIN:VEVENT
SUMMARY:Circus Kreisolino und der verzauberte Hut
DTSTART;TZID=Europe/Berlin:20080312T203000
DTSTAMP:20260423T033406Z
UID:6016b0e59ed847478545a9701cb44723@zmi.spielboden.at
CREATED:20120822T145436Z
LAST-MODIFIED:20210809T123735Z
URL:https://zmi.spielboden.at/Plone/veranstaltungen/2008/03_maerz/2008-03-
 12-20-30-circus-kreisolino-und-der-verzauberte-hut
END:VEVENT
BEGIN:VTIMEZONE
TZID:Europe/Berlin
X-LIC-LOCATION:Europe/Berlin
BEGIN:STANDARD
DTSTART:20071028T020000
TZNAME:CET
TZOFFSETFROM:+0200
TZOFFSETTO:+0100
END:STANDARD
END:VTIMEZONE
END:VCALENDAR
