BEGIN:VCALENDAR
VERSION:2.0
PRODID:-//Plone.org//NONSGML plone.app.event//EN
X-WR-TIMEZONE:Europe/Berlin
BEGIN:VEVENT
SUMMARY:Arabische Filmreihe – Dunia (Ägypten)
DTSTART;TZID=Europe/Berlin:20080307T203000
DTSTAMP:20260423T033406Z
UID:86ca09d7eb114ef6bcc69a3b9b0293c6@zmi.spielboden.at
CREATED:20120822T144418Z
DESCRIPTION:in Zusammenarbeit mit dem Marokkanischen Verein
LAST-MODIFIED:20210809T123425Z
URL:https://zmi.spielboden.at/Plone/veranstaltungen/2008/03_maerz/2008-03-
 07-20-30-arabische-filmreihe-2013-dunia-agypten
END:VEVENT
BEGIN:VTIMEZONE
TZID:Europe/Berlin
X-LIC-LOCATION:Europe/Berlin
BEGIN:STANDARD
DTSTART:20071028T020000
TZNAME:CET
TZOFFSETFROM:+0200
TZOFFSETTO:+0100
END:STANDARD
END:VTIMEZONE
END:VCALENDAR
