BEGIN:VCALENDAR
VERSION:2.0
PRODID:-//Plone.org//NONSGML plone.app.event//EN
X-WR-TIMEZONE:Europe/Berlin
BEGIN:VEVENT
SUMMARY:SONIC CAFE - heute mit Fräulein Cicibe
DTSTART;TZID=Europe/Berlin:20080306T220000
DTSTAMP:20260423T033234Z
UID:d17226a6bd804ac288a3932dbf644af2@zmi.spielboden.at
CREATED:20120822T145433Z
LAST-MODIFIED:20120910T114200Z
URL:https://zmi.spielboden.at/Plone/veranstaltungen/2008/03_maerz/2008-03-
 06-22-00-sonic-cafe-heute-mit-fraeulein-cicibe
END:VEVENT
BEGIN:VTIMEZONE
TZID:Europe/Berlin
X-LIC-LOCATION:Europe/Berlin
BEGIN:STANDARD
DTSTART:20071028T020000
TZNAME:CET
TZOFFSETFROM:+0200
TZOFFSETTO:+0100
END:STANDARD
END:VTIMEZONE
END:VCALENDAR
