BEGIN:VCALENDAR
VERSION:2.0
PRODID:-//Plone.org//NONSGML plone.app.event//EN
X-WR-TIMEZONE:Europe/Berlin
BEGIN:VEVENT
SUMMARY:Russenska aus Wien – Russkaja
DTSTART;TZID=Europe/Berlin:20080306T210000
DTSTAMP:20260423T033345Z
UID:cfdf773182f94ddd8d3d502d6b5ef036@zmi.spielboden.at
CREATED:20120822T145432Z
LAST-MODIFIED:20210809T123735Z
URL:https://zmi.spielboden.at/Plone/veranstaltungen/2008/03_maerz/2008-03-
 06-21-00-russenska-aus-wien-2013-russkaja
END:VEVENT
BEGIN:VTIMEZONE
TZID:Europe/Berlin
X-LIC-LOCATION:Europe/Berlin
BEGIN:STANDARD
DTSTART:20071028T020000
TZNAME:CET
TZOFFSETFROM:+0200
TZOFFSETTO:+0100
END:STANDARD
END:VTIMEZONE
END:VCALENDAR
