BEGIN:VCALENDAR
VERSION:2.0
PRODID:-//Plone.org//NONSGML plone.app.event//EN
X-WR-TIMEZONE:Europe/Berlin
BEGIN:VEVENT
SUMMARY:Riessler - Levy - Matinier
DTSTART;TZID=Europe/Berlin:20080305T203000
DTSTAMP:20260423T033043Z
UID:2992a663f4864efd9963022c1d51a704@zmi.spielboden.at
CREATED:20120822T145421Z
LAST-MODIFIED:20210809T123733Z
URL:https://zmi.spielboden.at/Plone/veranstaltungen/2008/03_maerz/2008-03-
 05-20-30-riessler-levy-matinier
END:VEVENT
BEGIN:VTIMEZONE
TZID:Europe/Berlin
X-LIC-LOCATION:Europe/Berlin
BEGIN:STANDARD
DTSTART:20071028T020000
TZNAME:CET
TZOFFSETFROM:+0200
TZOFFSETTO:+0100
END:STANDARD
END:VTIMEZONE
END:VCALENDAR
