BEGIN:VCALENDAR
VERSION:2.0
PRODID:-//Plone.org//NONSGML plone.app.event//EN
X-WR-TIMEZONE:Europe/Berlin
BEGIN:VEVENT
SUMMARY:Die Frau\, die Arbeit\, die Kunst und das Geld
DTSTART;TZID=Europe/Berlin:20080305T203000
DTSTAMP:20260423T031342Z
UID:c766f9fa03f1483c890253d3465b8181@zmi.spielboden.at
CREATED:20120822T145431Z
LAST-MODIFIED:20210809T123735Z
URL:https://zmi.spielboden.at/Plone/veranstaltungen/2008/03_maerz/2008-03-
 05-20-30-die-frau-die-arbeit-die-kunst-und-das-geld
END:VEVENT
BEGIN:VTIMEZONE
TZID:Europe/Berlin
X-LIC-LOCATION:Europe/Berlin
BEGIN:STANDARD
DTSTART:20071028T020000
TZNAME:CET
TZOFFSETFROM:+0200
TZOFFSETTO:+0100
END:STANDARD
END:VTIMEZONE
END:VCALENDAR
