BEGIN:VCALENDAR
VERSION:2.0
PRODID:-//Plone.org//NONSGML plone.app.event//EN
X-WR-TIMEZONE:Europe/Berlin
BEGIN:VEVENT
SUMMARY:Zärtlichkeiten mit Freunden
DTSTART;TZID=Europe/Berlin:20080304T203000
DTSTAMP:20260423T031113Z
UID:0e64ed4691b64a30a978f7c0fa83523c@zmi.spielboden.at
CREATED:20120822T145426Z
LAST-MODIFIED:20210809T123734Z
URL:https://zmi.spielboden.at/Plone/veranstaltungen/2008/03_maerz/2008-03-
 04-20-30-zaertlichkeiten-mit-freunden
END:VEVENT
BEGIN:VTIMEZONE
TZID:Europe/Berlin
X-LIC-LOCATION:Europe/Berlin
BEGIN:STANDARD
DTSTART:20071028T020000
TZNAME:CET
TZOFFSETFROM:+0200
TZOFFSETTO:+0100
END:STANDARD
END:VTIMEZONE
END:VCALENDAR
